BEGIN:VCALENDAR
VERSION:2.0
PRODID:-//CEN Normandie - ECPv6.15.20//NONSGML v1.0//EN
CALSCALE:GREGORIAN
METHOD:PUBLISH
X-WR-CALNAME:CEN Normandie
X-ORIGINAL-URL:https://www.cen-normandie.fr
X-WR-CALDESC:Évènements pour CEN Normandie
REFRESH-INTERVAL;VALUE=DURATION:PT1H
X-Robots-Tag:noindex
X-PUBLISHED-TTL:PT1H
BEGIN:VTIMEZONE
TZID:Europe/Paris
BEGIN:DAYLIGHT
TZOFFSETFROM:+0100
TZOFFSETTO:+0200
TZNAME:CEST
DTSTART:20250330T010000
END:DAYLIGHT
BEGIN:STANDARD
TZOFFSETFROM:+0200
TZOFFSETTO:+0100
TZNAME:CET
DTSTART:20251026T010000
END:STANDARD
BEGIN:DAYLIGHT
TZOFFSETFROM:+0100
TZOFFSETTO:+0200
TZNAME:CEST
DTSTART:20260329T010000
END:DAYLIGHT
BEGIN:STANDARD
TZOFFSETFROM:+0200
TZOFFSETTO:+0100
TZNAME:CET
DTSTART:20261025T010000
END:STANDARD
BEGIN:DAYLIGHT
TZOFFSETFROM:+0100
TZOFFSETTO:+0200
TZNAME:CEST
DTSTART:20270328T010000
END:DAYLIGHT
BEGIN:STANDARD
TZOFFSETFROM:+0200
TZOFFSETTO:+0100
TZNAME:CET
DTSTART:20271031T010000
END:STANDARD
END:VTIMEZONE
BEGIN:VEVENT
DTSTART;TZID=Europe/Paris:20260325T100000
DTEND;TZID=Europe/Paris:20260325T100000
DTSTAMP:20260420T115757
CREATED:20250314T114028Z
LAST-MODIFIED:20260217T093135Z
UID:9635-1774432800-1774432800@www.cen-normandie.fr
SUMMARY:La nature : une aventure pour les tout-petits !
DESCRIPTION:Réservation obligatoire : https://lanaturedansleure.fr/ \nRejoignez-nous pour cette aventure douce et enrichissante où votre petit pourra s’émerveiller et découvrir la nature dans un cadre chaleureux et sécurisant. Une belle façon de semer les graines d’un amour pour l’environnement dès le plus jeune âge ! \nVenez participer à une animation interactive et ludique dédiée aux tout-petits (18 à 36 mois) sur le thème des bourgeons dans la forêt. Les enfants auront l’occasion de découvrir la magie du printemps et la transformation des bourgeons en feuilles.\nAu programme :\nUne histoire captivante qui éveillera la curiosité des enfants sur les bourgeons et la vie dans la forêt.\nDes chansons et des mouvements pour imiter les animaux et les plantes.\nDes jeux interactifs pour explorer la nature et apprendre en s’amusant.\nCette animation est conçue pour favoriser l’éveil et l’apprentissage des plus petits tout en créant des moments de partage entre parents et enfants. Rejoignez-nous pour une expérience enrichissante au cœur de la nature ! \n  \nInformations Pratiques :\nDurée : 1h-1h30\nMatériel : Apportez des vêtements adaptés à la météo\nPublic : Enfants de 18 mois à 3 ans (accompagnés d’un adulte) \nPartenaire : Département de l’Eure \n 
URL:https://www.cen-normandie.fr/agenda/la-nature-une-aventure-pour-les-tout-petits/
LOCATION:Forêt de Lyons-la-Forêt\, Lyons-la-Forêt\, 27377\, France
CATEGORIES:Animation nature,Eure (27),Landes et boisements
ATTACH;FMTTYPE=image/webp:https://www.cen-normandie.fr/wp-content/uploads/2025/03/Dem-Deuil_Chasse-aux-insectes-scaled.webp
END:VEVENT
END:VCALENDAR