BEGIN:VCALENDAR
VERSION:2.0
PRODID:-//CEN Normandie - ECPv6.15.20//NONSGML v1.0//EN
CALSCALE:GREGORIAN
METHOD:PUBLISH
X-ORIGINAL-URL:https://www.cen-normandie.fr
X-WR-CALDESC:Évènements pour CEN Normandie
REFRESH-INTERVAL;VALUE=DURATION:PT1H
X-Robots-Tag:noindex
X-PUBLISHED-TTL:PT1H
BEGIN:VTIMEZONE
TZID:Europe/Paris
BEGIN:DAYLIGHT
TZOFFSETFROM:+0100
TZOFFSETTO:+0200
TZNAME:CEST
DTSTART:20250330T010000
END:DAYLIGHT
BEGIN:STANDARD
TZOFFSETFROM:+0200
TZOFFSETTO:+0100
TZNAME:CET
DTSTART:20251026T010000
END:STANDARD
BEGIN:DAYLIGHT
TZOFFSETFROM:+0100
TZOFFSETTO:+0200
TZNAME:CEST
DTSTART:20260329T010000
END:DAYLIGHT
BEGIN:STANDARD
TZOFFSETFROM:+0200
TZOFFSETTO:+0100
TZNAME:CET
DTSTART:20261025T010000
END:STANDARD
BEGIN:DAYLIGHT
TZOFFSETFROM:+0100
TZOFFSETTO:+0200
TZNAME:CEST
DTSTART:20270328T010000
END:DAYLIGHT
BEGIN:STANDARD
TZOFFSETFROM:+0200
TZOFFSETTO:+0100
TZNAME:CET
DTSTART:20271031T010000
END:STANDARD
END:VTIMEZONE
BEGIN:VEVENT
DTSTART;TZID=Europe/Paris:20260513T093000
DTEND;TZID=Europe/Paris:20260513T120000
DTSTAMP:20260420T144749
CREATED:20260223T111129Z
LAST-MODIFIED:20260320T113955Z
UID:11220-1778664600-1778673600@www.cen-normandie.fr
SUMMARY:Animation nature sur la réserve naturelle du coteau de Mesnil-Soleil
DESCRIPTION:La réserve naturelle du coteau de Mesnil-Soleil vous ouvres ses portes ! Accompagnés de la conservatrice\, laissez-vous guider pour découvrir le patrimoine naturel de cette réserve composée de milieux particuliers. La saison est idéale pour observer la flore et les insectes qui la composent ! Ouvrez grand les yeux… \nRéservation obligatoire : https://www.billetweb.fr/animation-nature-sur-la-reserve-naturelle-du-coteau-de-mesnil-soleil \nLieu de rendez-vous :  Parking de l’aérodrome de Falaise – Monts d’Eraines \nInformations pratiques : \n\nÉvènement gratuit ouvert à tous.\nÉquipez-vous de chaussures de marche\, de vêtements adaptés au terrain et à la météo\, d’une gourde\, d’un pique-nique et d’un appareil photo.\nPour des raisons pratiques\, pensez à préciser l’âge des participants dans le formulaire d’inscription et à laisser un numéro de téléphone mobile.\n\nPatenaires : DREAL Normandie\, département du Calvados\, Unis-Cité CAEN
URL:https://www.cen-normandie.fr/agenda/animation-nature-sur-la-reserve-naturelle-du-coteau-de-mesnil-soleil/
LOCATION:Réserve Naturelle Nationale du Coteau de Mesnil-Soleil\, Parking de l'aérodrome de Falaise Monts d'Eraines\, Damblainville\, 14620\, France
CATEGORIES:Animation nature,Calvados (14),Coteaux calcaires
ATTACH;FMTTYPE=image/jpeg:https://www.cen-normandie.fr/wp-content/uploads/2026/02/Polygala_calcarea_Beatrice_Gillot_CPIE_Collines_Normandes-scaled.jpg
END:VEVENT
END:VCALENDAR