BEGIN:VCALENDAR
VERSION:2.0
PRODID:-//CEN Normandie - ECPv6.15.20//NONSGML v1.0//EN
CALSCALE:GREGORIAN
METHOD:PUBLISH
X-ORIGINAL-URL:https://www.cen-normandie.fr
X-WR-CALDESC:Évènements pour CEN Normandie
REFRESH-INTERVAL;VALUE=DURATION:PT1H
X-Robots-Tag:noindex
X-PUBLISHED-TTL:PT1H
BEGIN:VTIMEZONE
TZID:Europe/Paris
BEGIN:DAYLIGHT
TZOFFSETFROM:+0100
TZOFFSETTO:+0200
TZNAME:CEST
DTSTART:20250330T010000
END:DAYLIGHT
BEGIN:STANDARD
TZOFFSETFROM:+0200
TZOFFSETTO:+0100
TZNAME:CET
DTSTART:20251026T010000
END:STANDARD
BEGIN:DAYLIGHT
TZOFFSETFROM:+0100
TZOFFSETTO:+0200
TZNAME:CEST
DTSTART:20260329T010000
END:DAYLIGHT
BEGIN:STANDARD
TZOFFSETFROM:+0200
TZOFFSETTO:+0100
TZNAME:CET
DTSTART:20261025T010000
END:STANDARD
BEGIN:DAYLIGHT
TZOFFSETFROM:+0100
TZOFFSETTO:+0200
TZNAME:CEST
DTSTART:20270328T010000
END:DAYLIGHT
BEGIN:STANDARD
TZOFFSETFROM:+0200
TZOFFSETTO:+0100
TZNAME:CET
DTSTART:20271031T010000
END:STANDARD
END:VTIMEZONE
BEGIN:VEVENT
DTSTART;TZID=Europe/Paris:20260530T080000
DTEND;TZID=Europe/Paris:20260530T170000
DTSTAMP:20260420T144723
CREATED:20260202T135604Z
LAST-MODIFIED:20260202T135912Z
UID:11084-1780128000-1780160400@www.cen-normandie.fr
SUMMARY:La vie du monde à l’envers
DESCRIPTION:Sur et sous la surface de l’eau\, tout un petit monde s’active ! Des punaises aquatiques\, des larves de libellules\, des coléoptères\, des amphibiens\, des plantes aux pouvoirs insoupçonnés. Et peut-être aurez-vous la chance de croiser une des stars du marais\, une des plus grosses araignées d’Europe : la Dolomède des roseaux. \nSortie organisée dans le cadre de la fête du marais. \nRéservation obligatoire : https://www.billetweb.fr/animation-la-vie-du-monde-a-l-envers \nInformations pratiques : \nÉvènement gratuit ouvert à tous. \nMatériel : chaussures de marche ou bottes\, vêtements adaptés à la météo et au terrain.\nPublic : Tout âge (les enfants doivent être accompagnés)
URL:https://www.cen-normandie.fr/agenda/la-vie-du-monde-a-lenvers/
LOCATION:Marais alcalin de Chicheboville-Bellengreville\, Mairie déléguée de Moult-Chicheboville\, 80 rue éole\,\, Moult-Chicheboville\, 14370\, France
CATEGORIES:Animation nature,Calvados (14),Tourbières et marais
ATTACH;FMTTYPE=image/jpeg:https://www.cen-normandie.fr/wp-content/uploads/2026/02/Dolo_plant_Thomas_Cheyrezy-scaled.jpg
ORGANIZER;CN="CEN Normandie":MAILTO:contact@cen-normandie.fr
END:VEVENT
BEGIN:VEVENT
DTSTART;TZID=Europe/Paris:20260530T140000
DTEND;TZID=Europe/Paris:20260530T163000
DTSTAMP:20260420T144723
CREATED:20260410T100855Z
LAST-MODIFIED:20260410T100855Z
UID:11426-1780149600-1780158600@www.cen-normandie.fr
SUMMARY:Trésors sous les sabots des ânes
DESCRIPTION:Armés de filets à papillons et équipés de bonnes chaussures\, venez vous amuser en compagnie d’ânes bâtés dans un espace naturel riche en biodiversité. Des indices seront à récolter lors de cette chasse au trésor \nRéservation obligatoire : Lien en cours d’édition. Réservation possible en appelant le 0620397232 \nLieu de rendez-vous : Parking du Sentier du Criquet à Tosny Les 3 Lacs\, Accès via la rue Saint-Sulpice 27700 Les Trois Lacs (Tosny) Possibilité de stationner à l’entrée du sentier. \nInformations pratiques : \n\nÉvènement gratuit ouvert à tous.\nÉquipez-vous de vêtements adaptés au terrain et à la météo\nPour des raisons pratiques\, pensez à préciser l’âge des participants dans le formulaire d’inscription et à laisser un numéro de téléphone mobile.\n\nPatenaires : SECA\, Département de l’Eure
URL:https://www.cen-normandie.fr/agenda/tresors-sous-les-sabots-des-anes/
CATEGORIES:Animation nature,Eure (27),Terrasses alluviales
ATTACH;FMTTYPE=image/jpeg:https://www.cen-normandie.fr/wp-content/uploads/2026/04/anes-1-scaled.jpg
END:VEVENT
BEGIN:VEVENT
DTSTART;TZID=Europe/Paris:20260530T200000
DTEND;TZID=Europe/Paris:20260530T213000
DTSTAMP:20260420T144723
CREATED:20260407T130408Z
LAST-MODIFIED:20260410T133550Z
UID:11354-1780171200-1780176600@www.cen-normandie.fr
SUMMARY:Une aventure botanique nocturne !
DESCRIPTION:Au cours de cette animation nocturne\, nous vous invitons à explorer le patrimoine naturel et historique exceptionnel des coteaux qui entourent le Château Gaillard. En compagnie d’un guide spécialiste du château et d’un naturaliste du Conservatoire d’espaces naturels\, vous découvrirez la diversité des plantes qui y poussent et leur importance pour l’écosystème local ainsi que leur histoire passée. \nRéservation obligatoire : https://lanaturedansleure.fr/activites/aventure-botanique-nocturne–32 \nLieu de rendez-vous : Les coteaux du Château Gaillard – Les Andelys (27) \nInformations pratiques : \n\nÉvènement gratuit ouvert à tous.\nÉquipez-vous de vêtements adaptés au terrain et à la météo\nPour des raisons pratiques\, pensez à préciser l’âge des participants dans le formulaire d’inscription et à laisser un numéro de téléphone mobile.\n\nPatenaires : Département de l’Eure\, Office de tourisme Château Gaillard
URL:https://www.cen-normandie.fr/agenda/une-aventure-botanique-nocturne/
LOCATION:Les coteaux du Château Gaillard\, Parking du château Gaillard\, Les Andelys\, 27700\, France
CATEGORIES:Animation nature,Coteaux calcaires,Eure (27)
ATTACH;FMTTYPE=image/jpeg:https://www.cen-normandie.fr/wp-content/uploads/2026/04/Aventure-botanique-nocturne-2-scaled.jpg
ORGANIZER;CN="CEN Normandie":MAILTO:contact@cen-normandie.fr
END:VEVENT
END:VCALENDAR