BEGIN:VCALENDAR
VERSION:2.0
PRODID:-//CEN Normandie - ECPv6.15.20//NONSGML v1.0//EN
CALSCALE:GREGORIAN
METHOD:PUBLISH
X-ORIGINAL-URL:https://www.cen-normandie.fr
X-WR-CALDESC:Évènements pour CEN Normandie
REFRESH-INTERVAL;VALUE=DURATION:PT1H
X-Robots-Tag:noindex
X-PUBLISHED-TTL:PT1H
BEGIN:VTIMEZONE
TZID:Europe/Paris
BEGIN:DAYLIGHT
TZOFFSETFROM:+0100
TZOFFSETTO:+0200
TZNAME:CEST
DTSTART:20250330T010000
END:DAYLIGHT
BEGIN:STANDARD
TZOFFSETFROM:+0200
TZOFFSETTO:+0100
TZNAME:CET
DTSTART:20251026T010000
END:STANDARD
BEGIN:DAYLIGHT
TZOFFSETFROM:+0100
TZOFFSETTO:+0200
TZNAME:CEST
DTSTART:20260329T010000
END:DAYLIGHT
BEGIN:STANDARD
TZOFFSETFROM:+0200
TZOFFSETTO:+0100
TZNAME:CET
DTSTART:20261025T010000
END:STANDARD
BEGIN:DAYLIGHT
TZOFFSETFROM:+0100
TZOFFSETTO:+0200
TZNAME:CEST
DTSTART:20270328T010000
END:DAYLIGHT
BEGIN:STANDARD
TZOFFSETFROM:+0200
TZOFFSETTO:+0100
TZNAME:CET
DTSTART:20271031T010000
END:STANDARD
END:VTIMEZONE
BEGIN:VEVENT
DTSTART;TZID=Europe/Paris:20260613T140000
DTEND;TZID=Europe/Paris:20260613T160000
DTSTAMP:20260420T162443
CREATED:20260407T133240Z
LAST-MODIFIED:20260410T133955Z
UID:11360-1781359200-1781366400@www.cen-normandie.fr
SUMMARY:Mais pourquoi tant de Laine ?
DESCRIPTION:Venez découvrir la nature autrement\, entre promenade et atelier créatif. Vous découvrirez un milieu naturel foisonnant de vie ainsi que les alliés de la gestion : les moutons. Lors d’un atelier ludique\, vous apprendrez à manipuler de la laine cardée\, pour repartir avec votre propre création. Vous participerez ensuite à la chasse aux petites bêtes qui peuplent le coteau calcaire. Une après-midi qui vous laissera des souvenirs aussi doux que la laine ! \nRéservation obligatoire : https://lanaturedansleure.fr/activites/mais-pourquoi-tant-de-laine–42 \nLieu de rendez-vous : Les coteaux du Château Gaillard – Les Andelys (27) \nInformations pratiques : \n\nÉvènement gratuit ouvert à tous.\nÉquipez-vous de vêtements adaptés au terrain et à la météo\nPour des raisons pratiques\, pensez à préciser l’âge des participants dans le formulaire d’inscription et à laisser un numéro de téléphone mobile.\n\nPatenaires : Département de l’Eure\, La ferme du Mathou
URL:https://www.cen-normandie.fr/agenda/mais-pourquoi-tant-de-laine/
LOCATION:Les coteaux du Château Gaillard\, Parking du château Gaillard\, Les Andelys\, 27700\, France
CATEGORIES:Animation nature,Coteaux calcaires,Eure (27)
ATTACH;FMTTYPE=image/jpeg:https://www.cen-normandie.fr/wp-content/uploads/2026/04/Pourquoi-tant-de-laine-scaled.jpg
ORGANIZER;CN="CEN Normandie":MAILTO:contact@cen-normandie.fr
END:VEVENT
END:VCALENDAR