BEGIN:VCALENDAR
VERSION:2.0
PRODID:-//CEN Normandie - ECPv6.15.20//NONSGML v1.0//EN
CALSCALE:GREGORIAN
METHOD:PUBLISH
X-WR-CALNAME:CEN Normandie
X-ORIGINAL-URL:https://www.cen-normandie.fr
X-WR-CALDESC:Évènements pour CEN Normandie
REFRESH-INTERVAL;VALUE=DURATION:PT1H
X-Robots-Tag:noindex
X-PUBLISHED-TTL:PT1H
BEGIN:VTIMEZONE
TZID:Europe/Paris
BEGIN:DAYLIGHT
TZOFFSETFROM:+0100
TZOFFSETTO:+0200
TZNAME:CEST
DTSTART:20250330T010000
END:DAYLIGHT
BEGIN:STANDARD
TZOFFSETFROM:+0200
TZOFFSETTO:+0100
TZNAME:CET
DTSTART:20251026T010000
END:STANDARD
BEGIN:DAYLIGHT
TZOFFSETFROM:+0100
TZOFFSETTO:+0200
TZNAME:CEST
DTSTART:20260329T010000
END:DAYLIGHT
BEGIN:STANDARD
TZOFFSETFROM:+0200
TZOFFSETTO:+0100
TZNAME:CET
DTSTART:20261025T010000
END:STANDARD
BEGIN:DAYLIGHT
TZOFFSETFROM:+0100
TZOFFSETTO:+0200
TZNAME:CEST
DTSTART:20270328T010000
END:DAYLIGHT
BEGIN:STANDARD
TZOFFSETFROM:+0200
TZOFFSETTO:+0100
TZNAME:CET
DTSTART:20271031T010000
END:STANDARD
END:VTIMEZONE
BEGIN:VEVENT
DTSTART;TZID=Europe/Paris:20260624T140000
DTEND;TZID=Europe/Paris:20260624T163000
DTSTAMP:20260420T162214
CREATED:20260409T131937Z
LAST-MODIFIED:20260410T135312Z
UID:11391-1782309600-1782318600@www.cen-normandie.fr
SUMMARY:Entre tableaux et paysages\, Monet se dévoile
DESCRIPTION:Venez découvrir l’exposition temporaire du musée des impressionnistes de Giverny à l’occasion du centenaire de la disparition de Monet. Toiles colorées\, paysages Normands\, les œuvres célèbres mais aussi méconnues du peintre n’auront plus de secret pour vous lors de cette visite commentée par un guide du musée. Puis\, mettez -vous dans la peau de l’artiste en montant à votre tour les coteaux de la vallée de l’Epte\, frontière naturelle du département de l’Eure. Vous vous laisserez conter l’histoire de ces montagnes Normandes\, des espèces protégées qu’elles abritent et qui ont fait la renommée mondiale des peintures impressionnistes. \nRéservation obligatoire : https://lanaturedansleure.fr/activites/entre-tableaux-et-paysages-monet-se-devoile–49 \nLieu de rendez-vous : Les coteaux de Giverny – Giverny (27) \nInformations pratiques : \n\nÉvènement gratuit ouvert à tous.\nÉquipez-vous de vêtements adaptés au terrain et à la météo\nPour des raisons pratiques\, pensez à préciser l’âge des participants dans le formulaire d’inscription et à laisser un numéro de téléphone mobile.\n\nPatenaires : Département de l’Eure\, Musée des impressionismes de Giverny
URL:https://www.cen-normandie.fr/agenda/entre-tableaux-et-paysages-monet-se-devoile/
LOCATION:Les coteaux de Giverny\, Giverny\, 27620\, France
CATEGORIES:Animation nature,Coteaux calcaires,Eure (27)
ATTACH;FMTTYPE=image/jpeg:https://www.cen-normandie.fr/wp-content/uploads/2026/04/©2018-Francois-Guillemin-Couleurs-des-impressionnistes-recard-scaled.jpg
ORGANIZER;CN="CEN Normandie":MAILTO:contact@cen-normandie.fr
END:VEVENT
END:VCALENDAR