BEGIN:VCALENDAR
VERSION:2.0
PRODID:-//CEN Normandie - ECPv6.15.20//NONSGML v1.0//EN
CALSCALE:GREGORIAN
METHOD:PUBLISH
X-ORIGINAL-URL:https://www.cen-normandie.fr
X-WR-CALDESC:Évènements pour CEN Normandie
REFRESH-INTERVAL;VALUE=DURATION:PT1H
X-Robots-Tag:noindex
X-PUBLISHED-TTL:PT1H
BEGIN:VTIMEZONE
TZID:Europe/Paris
BEGIN:DAYLIGHT
TZOFFSETFROM:+0100
TZOFFSETTO:+0200
TZNAME:CEST
DTSTART:20250330T010000
END:DAYLIGHT
BEGIN:STANDARD
TZOFFSETFROM:+0200
TZOFFSETTO:+0100
TZNAME:CET
DTSTART:20251026T010000
END:STANDARD
BEGIN:DAYLIGHT
TZOFFSETFROM:+0100
TZOFFSETTO:+0200
TZNAME:CEST
DTSTART:20260329T010000
END:DAYLIGHT
BEGIN:STANDARD
TZOFFSETFROM:+0200
TZOFFSETTO:+0100
TZNAME:CET
DTSTART:20261025T010000
END:STANDARD
BEGIN:DAYLIGHT
TZOFFSETFROM:+0100
TZOFFSETTO:+0200
TZNAME:CEST
DTSTART:20270328T010000
END:DAYLIGHT
BEGIN:STANDARD
TZOFFSETFROM:+0200
TZOFFSETTO:+0100
TZNAME:CET
DTSTART:20271031T010000
END:STANDARD
END:VTIMEZONE
BEGIN:VEVENT
DTSTART;TZID=Europe/Paris:20260708T143000
DTEND;TZID=Europe/Paris:20260708T163000
DTSTAMP:20260420T180201
CREATED:20260409T143612Z
LAST-MODIFIED:20260410T141324Z
UID:11398-1783521000-1783528200@www.cen-normandie.fr
SUMMARY:Bleu nature : cyanotypes sur les coteaux normands
DESCRIPTION:Connaissez vous cette technique d’impression qui utilise la lumière du soleil ? Elle se prête parfaitement à de jolies création fleuries. Venez créer votre carte postale ou marque page à l’aide des plantes récoltées sur le coteau. Vous apprendrez les bases de la cueillette responsable et découvrirez les plantes venues du sud qui fleurissent dès le retour des beaux jours. Apprenez à les reconnaître pour mieux les protéger. \nRéservation obligatoire : https://lanaturedansleure.fr/activites/bleu-nature-cyanotypes-sur-les-coteaux-normands–56 \nLieu de rendez-vous : Coteau de Saint-pierre – Vironvay (27) \nInformations pratiques : \n\nÉvènement gratuit ouvert à tous.\nÉquipez-vous de vêtements adaptés au terrain et à la météo\nPour des raisons pratiques\, pensez à préciser l’âge des participants dans le formulaire d’inscription et à laisser un numéro de téléphone mobile.\n\nPatenaires : Département de l’Eure
URL:https://www.cen-normandie.fr/agenda/bleu-nature-cyanotypes-sur-les-coteaux-normands/
LOCATION:Coteaux de Saint-Pierre\, Route de la Chapelle\, Vironvay\, Eure\, 27400\, France
CATEGORIES:Animation nature,Coteaux calcaires,Eure (27)
ATTACH;FMTTYPE=image/jpeg:https://www.cen-normandie.fr/wp-content/uploads/2026/04/Cyanotype-scaled.jpg
ORGANIZER;CN="CEN Normandie":MAILTO:contact@cen-normandie.fr
END:VEVENT
END:VCALENDAR