BEGIN:VCALENDAR
VERSION:2.0
PRODID:-//CEN Normandie - ECPv6.15.20//NONSGML v1.0//EN
CALSCALE:GREGORIAN
METHOD:PUBLISH
X-WR-CALNAME:CEN Normandie
X-ORIGINAL-URL:https://www.cen-normandie.fr
X-WR-CALDESC:Évènements pour CEN Normandie
REFRESH-INTERVAL;VALUE=DURATION:PT1H
X-Robots-Tag:noindex
X-PUBLISHED-TTL:PT1H
BEGIN:VTIMEZONE
TZID:Europe/Paris
BEGIN:DAYLIGHT
TZOFFSETFROM:+0100
TZOFFSETTO:+0200
TZNAME:CEST
DTSTART:20250330T010000
END:DAYLIGHT
BEGIN:STANDARD
TZOFFSETFROM:+0200
TZOFFSETTO:+0100
TZNAME:CET
DTSTART:20251026T010000
END:STANDARD
BEGIN:DAYLIGHT
TZOFFSETFROM:+0100
TZOFFSETTO:+0200
TZNAME:CEST
DTSTART:20260329T010000
END:DAYLIGHT
BEGIN:STANDARD
TZOFFSETFROM:+0200
TZOFFSETTO:+0100
TZNAME:CET
DTSTART:20261025T010000
END:STANDARD
BEGIN:DAYLIGHT
TZOFFSETFROM:+0100
TZOFFSETTO:+0200
TZNAME:CEST
DTSTART:20270328T010000
END:DAYLIGHT
BEGIN:STANDARD
TZOFFSETFROM:+0200
TZOFFSETTO:+0100
TZNAME:CET
DTSTART:20271031T010000
END:STANDARD
END:VTIMEZONE
BEGIN:VEVENT
DTSTART;TZID=Europe/Paris:20260709T080000
DTEND;TZID=Europe/Paris:20260709T120000
DTSTAMP:20260420T175911
CREATED:20260204T110059Z
LAST-MODIFIED:20260204T132820Z
UID:11112-1783584000-1783598400@www.cen-normandie.fr
SUMMARY:Fauche estivale du coteau de la Valmière
DESCRIPTION:Le Conservatoire d’espaces naturels de Normandie et l’Association Val d’Orne Environnement  vous invite à vivre une expérience de chantier nature sur le coteau de la Valmière ! Ici\, retour aux gestes traditionnels : pas de moteur ni de débroussailleuse\, mais des faux en main pour couper la fougère aigle et participer concrètement à la préservation du coteau de la Valmière. Un moment convivial au service de la biodiversité. \nRéservation obligatoire : https://www.billetweb.fr/fauche-estivale-du-coteau-de-la-valmiere-11-07-2026 \nLieu de rendez-vous : La Valmière\, 61210 Ménil-Hermei \nHoraires : 9h – 12h \nInformations pratiques : \n\nÉvènement gratuit ouvert à tous.\nÉquipez-vous de chaussures de terrain\, de vêtements adaptés à la météo et au terrain et d’une paire de gants.\nPour des raisons pratiques\, pensez à préciser l’âge des participants dans le formulaire d’inscription et à laisser un numéro de téléphone mobile.\n\nPartenaires :Val d’Orne Environnement\, Région Normandie (FEDER)
URL:https://www.cen-normandie.fr/agenda/fauche-estivale-du-coteau-de-la-valmiere/
LOCATION:La Valmière\, La Valmière\, Ménil-Hermei\, Orne\, 61210\, France
CATEGORIES:Chantier participatif,Coteaux calcaires,Orne (61)
ATTACH;FMTTYPE=image/jpeg:https://www.cen-normandie.fr/wp-content/uploads/2026/02/Coteau-de-la-Valmiere_C.POUTEAU-petite-taille-scaled.jpg
END:VEVENT
END:VCALENDAR