BEGIN:VCALENDAR
VERSION:2.0
PRODID:-//CEN Normandie - ECPv6.15.20//NONSGML v1.0//EN
CALSCALE:GREGORIAN
METHOD:PUBLISH
X-WR-CALNAME:CEN Normandie
X-ORIGINAL-URL:https://www.cen-normandie.fr
X-WR-CALDESC:Évènements pour CEN Normandie
REFRESH-INTERVAL;VALUE=DURATION:PT1H
X-Robots-Tag:noindex
X-PUBLISHED-TTL:PT1H
BEGIN:VTIMEZONE
TZID:Europe/Paris
BEGIN:DAYLIGHT
TZOFFSETFROM:+0100
TZOFFSETTO:+0200
TZNAME:CEST
DTSTART:20250330T010000
END:DAYLIGHT
BEGIN:STANDARD
TZOFFSETFROM:+0200
TZOFFSETTO:+0100
TZNAME:CET
DTSTART:20251026T010000
END:STANDARD
BEGIN:DAYLIGHT
TZOFFSETFROM:+0100
TZOFFSETTO:+0200
TZNAME:CEST
DTSTART:20260329T010000
END:DAYLIGHT
BEGIN:STANDARD
TZOFFSETFROM:+0200
TZOFFSETTO:+0100
TZNAME:CET
DTSTART:20261025T010000
END:STANDARD
BEGIN:DAYLIGHT
TZOFFSETFROM:+0100
TZOFFSETTO:+0200
TZNAME:CEST
DTSTART:20270328T010000
END:DAYLIGHT
BEGIN:STANDARD
TZOFFSETFROM:+0200
TZOFFSETTO:+0100
TZNAME:CET
DTSTART:20271031T010000
END:STANDARD
END:VTIMEZONE
BEGIN:VEVENT
DTSTART;TZID=Europe/Paris:20260905T100000
DTEND;TZID=Europe/Paris:20260905T120000
DTSTAMP:20260420T194513
CREATED:20260410T073409Z
LAST-MODIFIED:20260410T141943Z
UID:11405-1788602400-1788609600@www.cen-normandie.fr
SUMMARY:Camp de baguage
DESCRIPTION:Baguer les oiseaux ? Un métier ? Pour le découvrir venez suivre l’ornithologue du Conservatoire d’espaces naturels et l’observer lors de ses baguages annuels. Vous comprendrez l’utilité de cette technique dans le suivi des populations d’oiseaux et pourrez vous initier aux méthodes de capture et de bagage. Grâce à des outils adaptés\, vous pourrez aussi tenter de déterminer les espèces rencontrées. Une occasion unique de découvrir un métier passionnant ! \nRéservation obligatoire : https://lanaturedansleure.fr/activites/camp-de-baguage–76 \nLieu de rendez-vous : Les terrasses alluviales de Courcelle et Bouafles (27) \nInformations pratiques : \n\nÉvènement gratuit ouvert à tous.\nÉquipez-vous de vêtements adaptés au terrain et à la météo\nPour des raisons pratiques\, pensez à préciser l’âge des participants dans le formulaire d’inscription et à laisser un numéro de téléphone mobile.\n\nPatenaires : Département de l’Eure
URL:https://www.cen-normandie.fr/agenda/camp-de-baguage/
LOCATION:Les terrasses alluviales de Courcelle et Bouafles\, Courcelles-sur-seine\, Eure\, 27940\, France
CATEGORIES:Animation nature,Eure (27),Terrasses alluviales
ATTACH;FMTTYPE=image/jpeg:https://www.cen-normandie.fr/wp-content/uploads/2026/04/Hypolais-polyglotte-3-©-N.-Riu-_-Baguage-recadre.jpg
ORGANIZER;CN="CEN Normandie":MAILTO:contact@cen-normandie.fr
END:VEVENT
END:VCALENDAR