BEGIN:VCALENDAR
VERSION:2.0
PRODID:-//CEN Normandie - ECPv6.15.20//NONSGML v1.0//EN
CALSCALE:GREGORIAN
METHOD:PUBLISH
X-ORIGINAL-URL:https://www.cen-normandie.fr
X-WR-CALDESC:Évènements pour CEN Normandie
REFRESH-INTERVAL;VALUE=DURATION:PT1H
X-Robots-Tag:noindex
X-PUBLISHED-TTL:PT1H
BEGIN:VTIMEZONE
TZID:Europe/Paris
BEGIN:DAYLIGHT
TZOFFSETFROM:+0100
TZOFFSETTO:+0200
TZNAME:CEST
DTSTART:20250330T010000
END:DAYLIGHT
BEGIN:STANDARD
TZOFFSETFROM:+0200
TZOFFSETTO:+0100
TZNAME:CET
DTSTART:20251026T010000
END:STANDARD
BEGIN:DAYLIGHT
TZOFFSETFROM:+0100
TZOFFSETTO:+0200
TZNAME:CEST
DTSTART:20260329T010000
END:DAYLIGHT
BEGIN:STANDARD
TZOFFSETFROM:+0200
TZOFFSETTO:+0100
TZNAME:CET
DTSTART:20261025T010000
END:STANDARD
BEGIN:DAYLIGHT
TZOFFSETFROM:+0100
TZOFFSETTO:+0200
TZNAME:CEST
DTSTART:20270328T010000
END:DAYLIGHT
BEGIN:STANDARD
TZOFFSETFROM:+0200
TZOFFSETTO:+0100
TZNAME:CET
DTSTART:20271031T010000
END:STANDARD
END:VTIMEZONE
BEGIN:VEVENT
DTSTART;TZID=Europe/Paris:20261003T100000
DTEND;TZID=Europe/Paris:20261003T120000
DTSTAMP:20260420T201701
CREATED:20260410T085502Z
LAST-MODIFIED:20260410T142910Z
UID:11415-1791021600-1791028800@www.cen-normandie.fr
SUMMARY:Land 'Art pour les tout-petits !
DESCRIPTION:Rejoignez-nous pour cette aventure sensorielle et enrichissante où votre enfant pourra s’émerveiller et découvrir la forêt dans un cadre chaleureux et sécurisant. Entourés par les couleurs de l’automne\, les artistes en herbe donneront vie aux formes et aux matières pour créer une œuvre collective. S’initier au land’art\, une belle façon de semer les graines d’un amour pour la nature dès le plus jeune âge ! \nRéservation obligatoire : https://lanaturedansleure.fr/activites/land-art-pour-les-tout-petits–89 \nLieu de rendez-vous : Les coteaux d’Evreux (forêt de de la madeleine) \nInformations pratiques : \n\nÉvènement gratuit spécial enfants d’au moins 18 mois (accompagnés de leur parents).\nÉquipez-vous de vêtements adaptés au terrain et à la météo\nPour des raisons pratiques\, pensez à préciser l’âge des participants dans le formulaire d’inscription et à laisser un numéro de téléphone mobile.\n\nPatenaires : Département de l’Eure
URL:https://www.cen-normandie.fr/agenda/land-art-pour-les-tout-petits/
LOCATION:Les coteaux d’Evreux\, Évreux\, 27000\, France
CATEGORIES:Animation nature,Eure (27),Landes et boisements
ATTACH;FMTTYPE=image/jpeg:https://www.cen-normandie.fr/wp-content/uploads/2026/04/Tout-petits-2-scaled.jpg
ORGANIZER;CN="CEN Normandie":MAILTO:contact@cen-normandie.fr
END:VEVENT
END:VCALENDAR