BEGIN:VCALENDAR
VERSION:2.0
PRODID:-//CEN Normandie - ECPv6.15.20//NONSGML v1.0//EN
CALSCALE:GREGORIAN
METHOD:PUBLISH
X-ORIGINAL-URL:https://www.cen-normandie.fr
X-WR-CALDESC:Évènements pour CEN Normandie
REFRESH-INTERVAL;VALUE=DURATION:PT1H
X-Robots-Tag:noindex
X-PUBLISHED-TTL:PT1H
BEGIN:VTIMEZONE
TZID:Europe/Paris
BEGIN:DAYLIGHT
TZOFFSETFROM:+0100
TZOFFSETTO:+0200
TZNAME:CEST
DTSTART:20250330T010000
END:DAYLIGHT
BEGIN:STANDARD
TZOFFSETFROM:+0200
TZOFFSETTO:+0100
TZNAME:CET
DTSTART:20251026T010000
END:STANDARD
BEGIN:DAYLIGHT
TZOFFSETFROM:+0100
TZOFFSETTO:+0200
TZNAME:CEST
DTSTART:20260329T010000
END:DAYLIGHT
BEGIN:STANDARD
TZOFFSETFROM:+0200
TZOFFSETTO:+0100
TZNAME:CET
DTSTART:20261025T010000
END:STANDARD
BEGIN:DAYLIGHT
TZOFFSETFROM:+0100
TZOFFSETTO:+0200
TZNAME:CEST
DTSTART:20270328T010000
END:DAYLIGHT
BEGIN:STANDARD
TZOFFSETFROM:+0200
TZOFFSETTO:+0100
TZNAME:CET
DTSTART:20271031T010000
END:STANDARD
END:VTIMEZONE
BEGIN:VEVENT
DTSTART;TZID=Europe/Paris:20260704T140000
DTEND;TZID=Europe/Paris:20260704T163000
DTSTAMP:20260421T203008
CREATED:20260409T142811Z
LAST-MODIFIED:20260410T135411Z
UID:11394-1783173600-1783182600@www.cen-normandie.fr
SUMMARY:Le bal des demoiselles
DESCRIPTION:Suivez l’animatrice du Conservatoire d’espaces naturels de Normandie au cœur d’une zone humide foisonnante de vie ! Entre reine des prés et papillons nacrés\, vous découvrirez les nombreux secrets de cet espace naturel sensible riche en biodiversité. Après une chasse aux papillons et aux libellules qui se plaisent le long de la rivière\, vous profiterez d’une pause dégustation des plantes en sirop. Enfin\, vous pourrez découvrir quel est le rôle primordial de ces écosystèmes dans le cycle de l’eau. \nRéservation obligatoire : https://lanaturedansleure.fr/activites/entre-tableaux-et-paysages-monet-se-devoile–49 \nLieu de rendez-vous : Les prés humides de Corneville-sur-Risle (27) \nInformations pratiques : \n\nÉvènement gratuit ouvert à tous.\nÉquipez-vous de vêtements adaptés au terrain et à la météo\nPour des raisons pratiques\, pensez à préciser l’âge des participants dans le formulaire d’inscription et à laisser un numéro de téléphone mobile.\n\nPatenaires : Département de l’Eure
URL:https://www.cen-normandie.fr/agenda/le-bal-des-demoiselle/
LOCATION:Les prés humides de Corneville-sur-Risle\, Les prés humides de Corneville-sur-Risle\, Corneville-sur-Risle\, Eure\, 27174\, France
CATEGORIES:Animation nature,Eure (27),Zones humides
ATTACH;FMTTYPE=image/jpeg:https://www.cen-normandie.fr/wp-content/uploads/2026/04/Ballet-des-demoiselles-scaled.jpg
ORGANIZER;CN="CEN Normandie":MAILTO:contact@cen-normandie.fr
END:VEVENT
BEGIN:VEVENT
DTSTART;TZID=Europe/Paris:20260711T140000
DTEND;TZID=Europe/Paris:20260711T170000
DTSTAMP:20260421T203008
CREATED:20260202T134726Z
LAST-MODIFIED:20260202T135633Z
UID:11079-1783778400-1783789200@www.cen-normandie.fr
SUMMARY:La vie secrète des libellules et demoiselles
DESCRIPTION:Venez découvrir les multiples supers pouvoirs de ces insectes multicolores… Mais aussi leur incroyable diversité en parcourant le marais de Chicheboville-Bellengreville. Cette tourbière est l’un des sites les plus riches en libellules et demoiselles de toute la région. \nRéservation obligatoire : https://www.billetweb.fr/animation-la-vie-secrete-des-libellules-et-demoiselles \nInformations pratiques : \nÉvènement gratuit ouvert à tous. \nDurée : 4h\nMatériel : chaussures de marche\, vêtements adaptés à la météo et au terrain.\nPublic : Tout âge (les enfants doivent être accompagnés)
URL:https://www.cen-normandie.fr/agenda/la-vie-secrete-des-libellules-et-demoiselles/
LOCATION:Marais alcalin de Chicheboville-Bellengreville\, Mairie déléguée de Moult-Chicheboville\, 80 rue éole\,\, Moult-Chicheboville\, 14370\, France
CATEGORIES:Animation nature,Calvados (14),Zones humides
ATTACH;FMTTYPE=image/jpeg:https://www.cen-normandie.fr/wp-content/uploads/2026/02/Agrion_mercure_Francois_Nimal-scaled.jpg
ORGANIZER;CN="CEN Normandie":MAILTO:contact@cen-normandie.fr
END:VEVENT
BEGIN:VEVENT
DTSTART;VALUE=DATE:20260717
DTEND;VALUE=DATE:20260718
DTSTAMP:20260421T203008
CREATED:20260225T093812Z
LAST-MODIFIED:20260225T093812Z
UID:11260-1784246400-1784332799@www.cen-normandie.fr
SUMMARY:Animation sur les mares de Launay : De l'argile au pot
DESCRIPTION:De l’extraction de l’argile à l’accueil de la biodiversité\, en passant par la création des pots : embarquez pour une journée au cœur du savoir-faire potier ! Le matin\, explorez les mares potières de Launay et leurs secrets naturels\, puis poursuivez l’après-midi au musée de la céramique pour découvrir la magie des formes et des gestes.\n\nRéservation obligatoire : Site partenaire et Billet web\nhttps://www.bagnolesdelorne.com/offres/de-largile-au-pot-domfront-en-poiraie-fr-6251196/\nhttps://museedelaceramique.fr\nhttps://www.billetweb.fr/animation-le-petit-peuple-des-mares-17-04-2026\n\n\n\nLieu de rendez-vous :  Mares potières de Launay – Domfront-en-Poiraie (matin) et musée de la céramique – Ger (après-midi) \nHoraires : 10h-12h / 14h-16h \nInformations pratiques : \n\nÉvènement payant\, voir sites des partenaires.\nÉquipez-vous de bottes et de vêtements adaptés à la météo et au terrain ainsi que d’un pique-nique et de quoi vous hydrater.\nPour des raisons pratiques\, pensez à préciser l’âge des participants dans le formulaire d’inscription et à laisser un numéro de téléphone mobile.\n\nPartenaires : AELB\, musée de la céramique de Ger\, office de tourisme de Domfront\, Région Normandie (FEDER)
URL:https://www.cen-normandie.fr/agenda/animation-sur-les-mares-de-launay-de-largile-au-pot/
LOCATION:Mares potières de Launay\, 12 place de la Roirie\, Domfront-en-Poiraie\, 61700\, France
CATEGORIES:Animation nature,Orne (61),Zones humides
ATTACH;FMTTYPE=image/jpeg:https://www.cen-normandie.fr/wp-content/uploads/2026/02/Mares-potieres-de-Launay_R.HARIVEL-1-scaled.jpg
ORGANIZER;CN="CEN Normandie":MAILTO:contact@cen-normandie.fr
END:VEVENT
END:VCALENDAR