BEGIN:VCALENDAR
VERSION:2.0
PRODID:-//CEN Normandie - ECPv6.15.20//NONSGML v1.0//EN
CALSCALE:GREGORIAN
METHOD:PUBLISH
X-ORIGINAL-URL:https://www.cen-normandie.fr
X-WR-CALDESC:Évènements pour CEN Normandie
REFRESH-INTERVAL;VALUE=DURATION:PT1H
X-Robots-Tag:noindex
X-PUBLISHED-TTL:PT1H
BEGIN:VTIMEZONE
TZID:Europe/Paris
BEGIN:DAYLIGHT
TZOFFSETFROM:+0100
TZOFFSETTO:+0200
TZNAME:CEST
DTSTART:20250330T010000
END:DAYLIGHT
BEGIN:STANDARD
TZOFFSETFROM:+0200
TZOFFSETTO:+0100
TZNAME:CET
DTSTART:20251026T010000
END:STANDARD
BEGIN:DAYLIGHT
TZOFFSETFROM:+0100
TZOFFSETTO:+0200
TZNAME:CEST
DTSTART:20260329T010000
END:DAYLIGHT
BEGIN:STANDARD
TZOFFSETFROM:+0200
TZOFFSETTO:+0100
TZNAME:CET
DTSTART:20261025T010000
END:STANDARD
BEGIN:DAYLIGHT
TZOFFSETFROM:+0100
TZOFFSETTO:+0200
TZNAME:CEST
DTSTART:20270328T010000
END:DAYLIGHT
BEGIN:STANDARD
TZOFFSETFROM:+0200
TZOFFSETTO:+0100
TZNAME:CET
DTSTART:20271031T010000
END:STANDARD
END:VTIMEZONE
BEGIN:VEVENT
DTSTART;TZID=Europe/Paris:20261114T140000
DTEND;TZID=Europe/Paris:20261114T163000
DTSTAMP:20260421T233216
CREATED:20260410T092419Z
LAST-MODIFIED:20260410T092419Z
UID:11418-1794664800-1794673800@www.cen-normandie.fr
SUMMARY:Aider oiseaux en hiver : fabrication de boules de graisses
DESCRIPTION:Découvrez comment aider les oiseaux en hiver ! Notre animatrice vous montrera comment fabriquer une boule de graisse\, et lors de cet atelier ludique\, vous en apprendrez d’avantage sur la vie de nos amis à plumes ! Apportez vos jumelles pour essayer d’apercevoir les oiseaux qui passent l’hiver sur la zone humide. Ils ont tous un régime alimentaire particulier\, lesquels viendront picorer vos graines ? \nRéservation obligatoire : Lien en cours d’édition. Réservation possible en appelant le 0620397232 \nLieu de rendez-vous : Les étangs de Pont-Audemer / Toutainville (27) \nInformations pratiques : \n\nÉvènement gratuit ouvert à tous.\nÉquipez-vous de vêtements adaptés au terrain et à la météo\nPour des raisons pratiques\, pensez à préciser l’âge des participants dans le formulaire d’inscription et à laisser un numéro de téléphone mobile.\n\nPatenaires : Département de l’Eure
URL:https://www.cen-normandie.fr/agenda/aider-oiseaux-en-hiver-fabrication-de-boules-de-graisses/
LOCATION:Les étangs de Pont Audemer\, Pont-Audemer\, 27467
CATEGORIES:Animation nature,Eure (27),Zones humides
ATTACH;FMTTYPE=image/jpeg:https://www.cen-normandie.fr/wp-content/uploads/2026/04/NIMAL-Francois-CEN-NORMANDIE.jpg
END:VEVENT
END:VCALENDAR