BEGIN:VCALENDAR
VERSION:2.0
PRODID:-//CEN Normandie - ECPv6.15.20//NONSGML v1.0//EN
CALSCALE:GREGORIAN
METHOD:PUBLISH
X-WR-CALNAME:CEN Normandie
X-ORIGINAL-URL:https://www.cen-normandie.fr
X-WR-CALDESC:Évènements pour CEN Normandie
REFRESH-INTERVAL;VALUE=DURATION:PT1H
X-Robots-Tag:noindex
X-PUBLISHED-TTL:PT1H
BEGIN:VTIMEZONE
TZID:Europe/Paris
BEGIN:DAYLIGHT
TZOFFSETFROM:+0100
TZOFFSETTO:+0200
TZNAME:CEST
DTSTART:20250330T010000
END:DAYLIGHT
BEGIN:STANDARD
TZOFFSETFROM:+0200
TZOFFSETTO:+0100
TZNAME:CET
DTSTART:20251026T010000
END:STANDARD
BEGIN:DAYLIGHT
TZOFFSETFROM:+0100
TZOFFSETTO:+0200
TZNAME:CEST
DTSTART:20260329T010000
END:DAYLIGHT
BEGIN:STANDARD
TZOFFSETFROM:+0200
TZOFFSETTO:+0100
TZNAME:CET
DTSTART:20261025T010000
END:STANDARD
BEGIN:DAYLIGHT
TZOFFSETFROM:+0100
TZOFFSETTO:+0200
TZNAME:CEST
DTSTART:20270328T010000
END:DAYLIGHT
BEGIN:STANDARD
TZOFFSETFROM:+0200
TZOFFSETTO:+0100
TZNAME:CET
DTSTART:20271031T010000
END:STANDARD
END:VTIMEZONE
BEGIN:VEVENT
DTSTART;TZID=Europe/Paris:20260606T140000
DTEND;TZID=Europe/Paris:20260606T160000
DTSTAMP:20260420T145558
CREATED:20260407T131303Z
LAST-MODIFIED:20260410T133821Z
UID:11357-1780754400-1780761600@www.cen-normandie.fr
SUMMARY:Randonnée colorée sur les pas des impressionnistes
DESCRIPTION:Lors de cette balade suivez le sentier qui vous fera découvrir les couleurs chères aux impressionnistes. Vous rencontrerez des animaux et plantes étranges qui se plaisent au soleil des coteaux de Giverny. Suivez le guide pour gouter\, sentir et toucher les joyaux trouvés le long du chemin. \nRéservation obligatoire : https://lanaturedansleure.fr/activites/randonnee-coloree-sur-les-pas-des-impressionnistes–34 \nLieu de rendez-vous : Les coteaux de Giverny – Giverny (27) \nInformations pratiques : \n\nÉvènement gratuit ouvert à tous.\nÉquipez-vous de vêtements adaptés au terrain et à la météo\nPour des raisons pratiques\, pensez à préciser l’âge des participants dans le formulaire d’inscription et à laisser un numéro de téléphone mobile.\n\nPatenaires : Département de l’Eure\, Musée des impressionnistes de Giverny
URL:https://www.cen-normandie.fr/agenda/randonnee-coloree-sur-les-pas-des-impressionnistes/
LOCATION:Les coteaux de Giverny\, Giverny\, 27620\, France
CATEGORIES:Animation nature,Coteaux calcaires,Eure (27)
ATTACH;FMTTYPE=image/jpeg:https://www.cen-normandie.fr/wp-content/uploads/2026/04/Randonnee-Giverny-scaled.jpg
END:VEVENT
BEGIN:VEVENT
DTSTART;TZID=Europe/Paris:20260613T140000
DTEND;TZID=Europe/Paris:20260613T160000
DTSTAMP:20260420T145558
CREATED:20260407T133240Z
LAST-MODIFIED:20260410T133955Z
UID:11360-1781359200-1781366400@www.cen-normandie.fr
SUMMARY:Mais pourquoi tant de Laine ?
DESCRIPTION:Venez découvrir la nature autrement\, entre promenade et atelier créatif. Vous découvrirez un milieu naturel foisonnant de vie ainsi que les alliés de la gestion : les moutons. Lors d’un atelier ludique\, vous apprendrez à manipuler de la laine cardée\, pour repartir avec votre propre création. Vous participerez ensuite à la chasse aux petites bêtes qui peuplent le coteau calcaire. Une après-midi qui vous laissera des souvenirs aussi doux que la laine ! \nRéservation obligatoire : https://lanaturedansleure.fr/activites/mais-pourquoi-tant-de-laine–42 \nLieu de rendez-vous : Les coteaux du Château Gaillard – Les Andelys (27) \nInformations pratiques : \n\nÉvènement gratuit ouvert à tous.\nÉquipez-vous de vêtements adaptés au terrain et à la météo\nPour des raisons pratiques\, pensez à préciser l’âge des participants dans le formulaire d’inscription et à laisser un numéro de téléphone mobile.\n\nPatenaires : Département de l’Eure\, La ferme du Mathou
URL:https://www.cen-normandie.fr/agenda/mais-pourquoi-tant-de-laine/
LOCATION:Les coteaux du Château Gaillard\, Parking du château Gaillard\, Les Andelys\, 27700\, France
CATEGORIES:Animation nature,Coteaux calcaires,Eure (27)
ATTACH;FMTTYPE=image/jpeg:https://www.cen-normandie.fr/wp-content/uploads/2026/04/Pourquoi-tant-de-laine-scaled.jpg
ORGANIZER;CN="CEN Normandie":MAILTO:contact@cen-normandie.fr
END:VEVENT
BEGIN:VEVENT
DTSTART;TZID=Europe/Paris:20260617T140000
DTEND;TZID=Europe/Paris:20260617T160000
DTSTAMP:20260420T145558
CREATED:20260407T134319Z
LAST-MODIFIED:20260410T134115Z
UID:11363-1781704800-1781712000@www.cen-normandie.fr
SUMMARY:On se marre dans la zone humide !
DESCRIPTION:Suivez l’animatrice du Conservatoire d’espaces naturels de Normandie au cœur d’une zone humide foisonnante de vie ! Entre reine des prés et libellules colorées\, vous découvrirez les nombreux secrets de cet espace naturel sensible riche en biodiversité. Après une chasse aux papillons et aux libellules qui se plaisent le long de la rivière\, vous profiterez d’une pause dégustation des plantes en sirop. Enfin\, vous pourrez découvrir quel est le rôle primordial de ces écosystèmes dans le cycle de l’eau. \nRéservation obligatoire : https://lanaturedansleure.fr/activites/on-se-marre-dans-la-zone-humide–46 \nLieu de rendez-vous : Le moulin d’Aclou – Brionne (27) \nInformations pratiques : \n\nÉvènement gratuit ouvert à tous.\nÉquipez-vous de vêtements adaptés au terrain et à la météo\nPour des raisons pratiques\, pensez à préciser l’âge des participants dans le formulaire d’inscription et à laisser un numéro de téléphone mobile.\n\nPatenaires : Département de l’Eure
URL:https://www.cen-normandie.fr/agenda/on-se-marre-dans-la-zone-humide/
LOCATION:Moulin d’Aclou\, Moulin d'Aclou\, Brionne\, Eure\, 27116\, France
CATEGORIES:Animation nature,Eure (27),Zones humides
ATTACH;FMTTYPE=image/jpeg:https://www.cen-normandie.fr/wp-content/uploads/2026/04/On-se-marre-dans-la-zone-humide-scaled.jpg
ORGANIZER;CN="CEN Normandie":MAILTO:contact@cen-normandie.fr
END:VEVENT
BEGIN:VEVENT
DTSTART;TZID=Europe/Paris:20260624T140000
DTEND;TZID=Europe/Paris:20260624T163000
DTSTAMP:20260420T145558
CREATED:20260409T131937Z
LAST-MODIFIED:20260410T135312Z
UID:11391-1782309600-1782318600@www.cen-normandie.fr
SUMMARY:Entre tableaux et paysages\, Monet se dévoile
DESCRIPTION:Venez découvrir l’exposition temporaire du musée des impressionnistes de Giverny à l’occasion du centenaire de la disparition de Monet. Toiles colorées\, paysages Normands\, les œuvres célèbres mais aussi méconnues du peintre n’auront plus de secret pour vous lors de cette visite commentée par un guide du musée. Puis\, mettez -vous dans la peau de l’artiste en montant à votre tour les coteaux de la vallée de l’Epte\, frontière naturelle du département de l’Eure. Vous vous laisserez conter l’histoire de ces montagnes Normandes\, des espèces protégées qu’elles abritent et qui ont fait la renommée mondiale des peintures impressionnistes. \nRéservation obligatoire : https://lanaturedansleure.fr/activites/entre-tableaux-et-paysages-monet-se-devoile–49 \nLieu de rendez-vous : Les coteaux de Giverny – Giverny (27) \nInformations pratiques : \n\nÉvènement gratuit ouvert à tous.\nÉquipez-vous de vêtements adaptés au terrain et à la météo\nPour des raisons pratiques\, pensez à préciser l’âge des participants dans le formulaire d’inscription et à laisser un numéro de téléphone mobile.\n\nPatenaires : Département de l’Eure\, Musée des impressionismes de Giverny
URL:https://www.cen-normandie.fr/agenda/entre-tableaux-et-paysages-monet-se-devoile/
LOCATION:Les coteaux de Giverny\, Giverny\, 27620\, France
CATEGORIES:Animation nature,Coteaux calcaires,Eure (27)
ATTACH;FMTTYPE=image/jpeg:https://www.cen-normandie.fr/wp-content/uploads/2026/04/©2018-Francois-Guillemin-Couleurs-des-impressionnistes-recard-scaled.jpg
ORGANIZER;CN="CEN Normandie":MAILTO:contact@cen-normandie.fr
END:VEVENT
BEGIN:VEVENT
DTSTART;TZID=Europe/Paris:20260627T093000
DTEND;TZID=Europe/Paris:20260627T170000
DTSTAMP:20260420T145558
CREATED:20260204T093956Z
LAST-MODIFIED:20260204T133422Z
UID:11104-1782552600-1782579600@www.cen-normandie.fr
SUMMARY:Chantier nature et découverte du site de la carrière de Belle-Eau
DESCRIPTION:Le Conservatoire d’espaces Naturels de Normandie et son partenaire l’Association faune et flore de l’Orne vous invite à venir donner un coup de main pour la gestion de la carrière de Belle-Eau ! Retrouvez également une découverte du patrimoine naturel et géologique de la carrière de Belle-Eau l’après midi\, en compagnie de la gestionnaire. \nRéservation obligatoire : https://www.billetweb.fr/chantier-nature-sur-lancienne-carriere-de-belle-eau-27-9-26 \nLieu de rendez-vous :  Devant le site\, au lieu-dit de Belle-Eau\, 61200 Argentan \nHoraires : 9h30-12h et 14h-17h \nInformations pratiques : \n\nÉvènement gratuit ouvert à tous.\nÉquipez vous de chaussures de marche et de vêtements adaptés à la météo et au terrain ainsi que d’une paire de gants de chantier.\nPensez à apportez votre pique-nique et de quoi vous hydrater.\nPour des raisons pratiques\, pensez à préciser l’âge des participants dans le formulaire d’inscription et à laisser un numéro de téléphone mobile.\n\nPartenaires : AFFO\, Région Normandie (FEDER)\, Terres d’Argentan interco
URL:https://www.cen-normandie.fr/agenda/chantier-nature-et-decouverte-du-site-de-la-carriere-de-belle-eau/
LOCATION:Carrière de Belle-Eau\, 61200 Argentan\, carrière de Belle-eau\, Argentan\, 61200\, France
CATEGORIES:Animation nature,Chantier participatif,Orne (61)
ATTACH;FMTTYPE=image/png:https://www.cen-normandie.fr/wp-content/uploads/2026/02/Carriere-de-Belle-Eau_C.POUTEAU-Petite-taille-scaled.png
ORGANIZER;CN="CEN Normandie":MAILTO:contact@cen-normandie.fr
END:VEVENT
END:VCALENDAR