BEGIN:VCALENDAR
VERSION:2.0
PRODID:-//CEN Normandie - ECPv6.15.20//NONSGML v1.0//EN
CALSCALE:GREGORIAN
METHOD:PUBLISH
X-ORIGINAL-URL:https://www.cen-normandie.fr
X-WR-CALDESC:Évènements pour CEN Normandie
REFRESH-INTERVAL;VALUE=DURATION:PT1H
X-Robots-Tag:noindex
X-PUBLISHED-TTL:PT1H
BEGIN:VTIMEZONE
TZID:Europe/Paris
BEGIN:DAYLIGHT
TZOFFSETFROM:+0100
TZOFFSETTO:+0200
TZNAME:CEST
DTSTART:20250330T010000
END:DAYLIGHT
BEGIN:STANDARD
TZOFFSETFROM:+0200
TZOFFSETTO:+0100
TZNAME:CET
DTSTART:20251026T010000
END:STANDARD
BEGIN:DAYLIGHT
TZOFFSETFROM:+0100
TZOFFSETTO:+0200
TZNAME:CEST
DTSTART:20260329T010000
END:DAYLIGHT
BEGIN:STANDARD
TZOFFSETFROM:+0200
TZOFFSETTO:+0100
TZNAME:CET
DTSTART:20261025T010000
END:STANDARD
BEGIN:DAYLIGHT
TZOFFSETFROM:+0100
TZOFFSETTO:+0200
TZNAME:CEST
DTSTART:20270328T010000
END:DAYLIGHT
BEGIN:STANDARD
TZOFFSETFROM:+0200
TZOFFSETTO:+0100
TZNAME:CET
DTSTART:20271031T010000
END:STANDARD
END:VTIMEZONE
BEGIN:VEVENT
DTSTART;TZID=Europe/Paris:20260905T100000
DTEND;TZID=Europe/Paris:20260905T120000
DTSTAMP:20260420T194643
CREATED:20260410T073409Z
LAST-MODIFIED:20260410T141943Z
UID:11405-1788602400-1788609600@www.cen-normandie.fr
SUMMARY:Camp de baguage
DESCRIPTION:Baguer les oiseaux ? Un métier ? Pour le découvrir venez suivre l’ornithologue du Conservatoire d’espaces naturels et l’observer lors de ses baguages annuels. Vous comprendrez l’utilité de cette technique dans le suivi des populations d’oiseaux et pourrez vous initier aux méthodes de capture et de bagage. Grâce à des outils adaptés\, vous pourrez aussi tenter de déterminer les espèces rencontrées. Une occasion unique de découvrir un métier passionnant ! \nRéservation obligatoire : https://lanaturedansleure.fr/activites/camp-de-baguage–76 \nLieu de rendez-vous : Les terrasses alluviales de Courcelle et Bouafles (27) \nInformations pratiques : \n\nÉvènement gratuit ouvert à tous.\nÉquipez-vous de vêtements adaptés au terrain et à la météo\nPour des raisons pratiques\, pensez à préciser l’âge des participants dans le formulaire d’inscription et à laisser un numéro de téléphone mobile.\n\nPatenaires : Département de l’Eure
URL:https://www.cen-normandie.fr/agenda/camp-de-baguage/
LOCATION:Les terrasses alluviales de Courcelle et Bouafles\, Courcelles-sur-seine\, Eure\, 27940\, France
CATEGORIES:Animation nature,Eure (27),Terrasses alluviales
ATTACH;FMTTYPE=image/jpeg:https://www.cen-normandie.fr/wp-content/uploads/2026/04/Hypolais-polyglotte-3-©-N.-Riu-_-Baguage-recadre.jpg
ORGANIZER;CN="CEN Normandie":MAILTO:contact@cen-normandie.fr
END:VEVENT
BEGIN:VEVENT
DTSTART;TZID=Europe/Paris:20260912T140000
DTEND;TZID=Europe/Paris:20260912T163000
DTSTAMP:20260420T194643
CREATED:20260410T081954Z
LAST-MODIFIED:20260410T142346Z
UID:11408-1789221600-1789230600@www.cen-normandie.fr
SUMMARY:Les animaux en feuilles d'automne
DESCRIPTION:En famille\, venez créer votre tableau d’automne tout en feuilles. Grâce à leurs nombreuses formes\, hérisson\, écureuils et autres oiseaux prendront vie entre vos mains. Vous apprendrez ainsi ce que les mots dentées\, lancéolées\, lobées signifient et pourrez repartir avec votre jolie création. \nRéservation obligatoire : https://lanaturedansleure.fr/activites/les-animaux-en-feuilles-dautomne–79 \nLieu de rendez-vous : Foret de Lyons-la-forêt – Lyons-la-foret (27) \nInformations pratiques : \n\nÉvènement gratuit ouvert à tous.\nÉquipez-vous de vêtements adaptés au terrain et à la météo\nPour des raisons pratiques\, pensez à préciser l’âge des participants dans le formulaire d’inscription et à laisser un numéro de téléphone mobile.\n\nPatenaires : Département de l’Eure
URL:https://www.cen-normandie.fr/agenda/les-animaux-en-feuilles-dautomne/
LOCATION:Forêt de Lyons-la-Forêt\, Lyons-la-Forêt\, 27377\, France
CATEGORIES:Animation nature,Eure (27),Landes et boisements
ATTACH;FMTTYPE=image/jpeg:https://www.cen-normandie.fr/wp-content/uploads/2026/04/Animaux-en-feuilles-scaled.jpg
ORGANIZER;CN="CEN Normandie":MAILTO:contact@cen-normandie.fr
END:VEVENT
BEGIN:VEVENT
DTSTART;TZID=Europe/Paris:20260912T140000
DTEND;TZID=Europe/Paris:20260912T170000
DTSTAMP:20260420T194643
CREATED:20260204T113539Z
LAST-MODIFIED:20260204T132539Z
UID:11115-1789221600-1789232400@www.cen-normandie.fr
SUMMARY:Criquets et sauterelles du site naturel de la Pitoisière
DESCRIPTION:Partez à la découverte des criquets et sauterelles qui peuplent les prairies humides de la Pitoisière\, à l’ouest du massif d’Écouves. Au fil de l’animation\, ouvrez l’œil pour apprendre à reconnaître ces discrets habitants des zones humides et mieux comprendre leur rôle au cœur des prairies humides de la Pitoisière. \nRéservation obligatoire : https://www.billetweb.fr/animation-nature-criquets-et-sauterelles-du-site-naturel-de-la-pitoisiere \nLieu de rendez-vous : lieu-dit La Pitoisière – Saint-Ellier-les-Bois 61320 \nHoraires : 14h – 17h \nInformations pratiques : \n\nÉvènement gratuit ouvert à tous.\nÉquipez-vous de bottes\, de vêtements adaptés à la météo et au terrain.\nPour des raisons pratiques\, pensez à préciser l’âge des participants dans le formulaire d’inscription et à laisser un numéro de téléphone mobile.\n\nPartenaires : AFFO\, AELB
URL:https://www.cen-normandie.fr/agenda/criquets-et-sauterelles-du-site-naturel-de-la-pitoisiere/
LOCATION:La Pitoisière – Rouperroux/Saint-Ellier-les-Bois\, La Pitoisière - Rouperroux/Saint-Ellier-les-Bois\, Rouperroux/Saint-Ellier-les-Bois\, 61320\, France
CATEGORIES:Animation nature,Orne (61),Prairies humides
ATTACH;FMTTYPE=image/jpeg:https://www.cen-normandie.fr/wp-content/uploads/2026/02/IMG_20230810_131200-petite-taille-scaled.jpg
ORGANIZER;CN="CEN Normandie":MAILTO:contact@cen-normandie.fr
END:VEVENT
BEGIN:VEVENT
DTSTART;TZID=Europe/Paris:20260916T093000
DTEND;TZID=Europe/Paris:20260916T130000
DTSTAMP:20260420T194643
CREATED:20260223T112618Z
LAST-MODIFIED:20260320T141012Z
UID:11223-1789551000-1789563600@www.cen-normandie.fr
SUMMARY:Comptage participatif d'une espèce patrimoniale sur la réserve du coteau de Mesnil-Soleil
DESCRIPTION:Accompagnez le conservatoire pour dénombrer les pieds de Gentiane amère (Gentianella amarella) sur la réserve naturelle du coteau de Mesnil-Soleil ! Cette plante protégée nationalement fait partie d’espèces floristiques suivies annuellement sur le coteau. \nRéservation obligatoire : https://www.billetweb.fr/comptage-participatif-dune-espece-patrimoniale-sur-la-reserve-du-coteau-de-mesnil-soleil \nLieu de rendez-vous :  Parking de l’aérodrome de Falaise – Monts d’Eraines \nInformations pratiques : \n\nÉvènement gratuit ouvert à tous.\nÉquipez-vous de chaussures de marche\,  de vêtements adaptés au terrain et à la météo\, d’une gourde\, d’un pique-nique et d’un appareil photo.\nPour des raisons pratiques\, pensez à préciser l’âge des participants dans le formulaire d’inscription et à laisser un numéro de téléphone mobile.\n\nPatenaires : DREAL Normandie\, département du Calvados
URL:https://www.cen-normandie.fr/agenda/comptage-participatif-dune-espece-patrimoniale-sur-la-reserve-du-coteau-de-mesnil-soleil/
LOCATION:Réserve Naturelle Nationale du Coteau de Mesnil-Soleil\, Parking de l'aérodrome de Falaise Monts d'Eraines\, Damblainville\, 14620\, France
CATEGORIES:Animation nature,Calvados (14),Coteaux calcaires
ATTACH;FMTTYPE=image/jpeg:https://www.cen-normandie.fr/wp-content/uploads/2026/02/Gentianella_amarella_Sylvie_Ganivet-scaled.jpg
ORGANIZER;CN="CEN Normandie":MAILTO:contact@cen-normandie.fr
END:VEVENT
BEGIN:VEVENT
DTSTART;TZID=Europe/Paris:20260926T140000
DTEND;TZID=Europe/Paris:20260926T163000
DTSTAMP:20260420T194643
CREATED:20260410T083543Z
LAST-MODIFIED:20260410T142649Z
UID:11411-1790431200-1790440200@www.cen-normandie.fr
SUMMARY:Conférence immersive : Monet à Giverny
DESCRIPTION:Venez assister à une conférence qui vous dévoilera tous les secrets de Monet à Giverny. Au travers d’anecdotes\, un guide conférencier vous entrainera dans l’univers coloré des toiles de l’artiste pour mieux comprendre ses œuvres et son amour pour Giverny. Ensuite\, lors d’une balade au cœur des coteaux chers au peintre\, vous découvrirez les plantes sauvages qui ont inspirés ses toiles. Vous comprendrez aussi le rôle des ces espaces naturels rares en Normandie et les moyens mis en place par le Conservatoire d’espaces naturels et le département de l’Eure pour les préserver. \nRéservation obligatoire : https://lanaturedansleure.fr/activites/conference-immersive-monet-a-giverny–86 \nLieu de rendez-vous : Les coteaux de Giverny – Giverny (27) \nInformations pratiques : \n\nÉvènement gratuit ouvert à tous (enfants à partir de 10ans).\nÉquipez-vous de vêtements adaptés au terrain et à la météo\nPour des raisons pratiques\, pensez à préciser l’âge des participants dans le formulaire d’inscription et à laisser un numéro de téléphone mobile.\n\nPatenaires : Département de l’Eure\,  Musée des impressionnismes de Giverny
URL:https://www.cen-normandie.fr/agenda/conference-immersive-monet-a-giverny/
LOCATION:Les coteaux de Giverny\, Giverny\, 27620\, France
CATEGORIES:Animation nature,Coteaux calcaires,Eure (27)
ATTACH;FMTTYPE=image/jpeg:https://www.cen-normandie.fr/wp-content/uploads/2026/04/c-musee-des-impressionnismes-conference-immersive-1-scaled.jpg
ORGANIZER;CN="CEN Normandie":MAILTO:contact@cen-normandie.fr
END:VEVENT
END:VCALENDAR