BEGIN:VCALENDAR
VERSION:2.0
PRODID:-//CEN Normandie - ECPv6.15.20//NONSGML v1.0//EN
CALSCALE:GREGORIAN
METHOD:PUBLISH
X-ORIGINAL-URL:https://www.cen-normandie.fr
X-WR-CALDESC:Évènements pour CEN Normandie
REFRESH-INTERVAL;VALUE=DURATION:PT1H
X-Robots-Tag:noindex
X-PUBLISHED-TTL:PT1H
BEGIN:VTIMEZONE
TZID:Europe/Paris
BEGIN:DAYLIGHT
TZOFFSETFROM:+0100
TZOFFSETTO:+0200
TZNAME:CEST
DTSTART:20250330T010000
END:DAYLIGHT
BEGIN:STANDARD
TZOFFSETFROM:+0200
TZOFFSETTO:+0100
TZNAME:CET
DTSTART:20251026T010000
END:STANDARD
BEGIN:DAYLIGHT
TZOFFSETFROM:+0100
TZOFFSETTO:+0200
TZNAME:CEST
DTSTART:20260329T010000
END:DAYLIGHT
BEGIN:STANDARD
TZOFFSETFROM:+0200
TZOFFSETTO:+0100
TZNAME:CET
DTSTART:20261025T010000
END:STANDARD
BEGIN:DAYLIGHT
TZOFFSETFROM:+0100
TZOFFSETTO:+0200
TZNAME:CEST
DTSTART:20270328T010000
END:DAYLIGHT
BEGIN:STANDARD
TZOFFSETFROM:+0200
TZOFFSETTO:+0100
TZNAME:CET
DTSTART:20271031T010000
END:STANDARD
END:VTIMEZONE
BEGIN:VEVENT
DTSTART;TZID=Europe/Paris:20261003T093000
DTEND;TZID=Europe/Paris:20261003T163000
DTSTAMP:20260420T211740
CREATED:20260223T103354Z
LAST-MODIFIED:20260320T142402Z
UID:11165-1791019800-1791045000@www.cen-normandie.fr
SUMMARY:Chantier nature sur la réserve naturelle du coteau de Mesnil-Soleil
DESCRIPTION:Le temps d’une journée\, équipez-vous de gants et de votre plus beau sourire pour participer à la gestion des milieux naturels de la réserve naturelle du coteau de Mesnil-Soleil ! En compagnie du technicien\, de la conservatrice\, et de bénévoles\, vous allez agir en faveur des pelouses calcicoles\, milieu d’intérêt patrimonial. \nRéservation obligatoire : https://www.billetweb.fr/chantier-nature-sur-la-reserve-naturelle-du-coteau-de-mesnil-soleil-03-10-26 \nLieu de rendez-vous :  Parking de l’aérodrome de Falaise – Monts d’Eraines \nInformations pratiques : \n\nÉvènement gratuit ouvert à tous.\nÉquipez-vous de gants\, de chaussures de marche\,  de vêtements adaptés au terrain et à la météo\, d’une gourde\, d’un pique-nique et d’un appareil photo.\nPour des raisons pratiques\, pensez à préciser l’âge des participants dans le formulaire d’inscription et à laisser un numéro de téléphone mobile.\n\nPatenaires : DREAL Normandie\, département du Calvados
URL:https://www.cen-normandie.fr/agenda/chantier-nature-sur-la-reserve-naturelle-du-coteau-de-mesnil-soleil/
LOCATION:Réserve Naturelle Nationale du Coteau de Mesnil-Soleil\, Parking de l'aérodrome de Falaise Monts d'Eraines\, Damblainville\, 14620\, France
CATEGORIES:Calvados (14),Chantier participatif,Coteaux calcaires
ATTACH;FMTTYPE=image/jpeg:https://www.cen-normandie.fr/wp-content/uploads/2026/02/Scleranthus-perennis_Thomas_Cheyrezy-compressee-scaled.jpg
ORGANIZER;CN="CEN Normandie":MAILTO:contact@cen-normandie.fr
END:VEVENT
BEGIN:VEVENT
DTSTART;TZID=Europe/Paris:20261003T100000
DTEND;TZID=Europe/Paris:20261003T120000
DTSTAMP:20260420T211740
CREATED:20260410T085502Z
LAST-MODIFIED:20260410T142910Z
UID:11415-1791021600-1791028800@www.cen-normandie.fr
SUMMARY:Land 'Art pour les tout-petits !
DESCRIPTION:Rejoignez-nous pour cette aventure sensorielle et enrichissante où votre enfant pourra s’émerveiller et découvrir la forêt dans un cadre chaleureux et sécurisant. Entourés par les couleurs de l’automne\, les artistes en herbe donneront vie aux formes et aux matières pour créer une œuvre collective. S’initier au land’art\, une belle façon de semer les graines d’un amour pour la nature dès le plus jeune âge ! \nRéservation obligatoire : https://lanaturedansleure.fr/activites/land-art-pour-les-tout-petits–89 \nLieu de rendez-vous : Les coteaux d’Evreux (forêt de de la madeleine) \nInformations pratiques : \n\nÉvènement gratuit spécial enfants d’au moins 18 mois (accompagnés de leur parents).\nÉquipez-vous de vêtements adaptés au terrain et à la météo\nPour des raisons pratiques\, pensez à préciser l’âge des participants dans le formulaire d’inscription et à laisser un numéro de téléphone mobile.\n\nPatenaires : Département de l’Eure
URL:https://www.cen-normandie.fr/agenda/land-art-pour-les-tout-petits/
LOCATION:Les coteaux d’Evreux\, Évreux\, 27000\, France
CATEGORIES:Animation nature,Eure (27),Landes et boisements
ATTACH;FMTTYPE=image/jpeg:https://www.cen-normandie.fr/wp-content/uploads/2026/04/Tout-petits-2-scaled.jpg
ORGANIZER;CN="CEN Normandie":MAILTO:contact@cen-normandie.fr
END:VEVENT
BEGIN:VEVENT
DTSTART;TZID=Europe/Paris:20261031T093000
DTEND;TZID=Europe/Paris:20261031T163000
DTSTAMP:20260420T211740
CREATED:20260217T114843Z
LAST-MODIFIED:20260217T114843Z
UID:11161-1793439000-1793464200@www.cen-normandie.fr
SUMMARY:Chantier nature sur le Marais de Chicheboville-Bellengreville - Restaurons la cladiaie !
DESCRIPTION:Venez participer à la troisième édition de notre chantier nature\, organisé au cœur du Marais de Chicheboville-Bellengreville\, un espace naturel encore méconnu du public. Que vous ayez envie de vous dépenser\, de créer ou simplement de partager un moment convivial\, rejoignez-nous pour une expérience unique en pleine nature. Ensemble\, contribuons activement à la restauration et à la préservation du Marais de Chicheboville-Bellengreville. \nRéservation obligatoire : https://www.billetweb.fr/chantier-nature-restaurons-la-cladiaie-31-10-2026 \nLieu de rendez-vous : Mairie déléguée de Moult-Chicheboville\, 80 rue éole\, 14370 Moult-Chicheboville \nInformations pratiques : \n\nÉvènement gratuit ouvert à tous (enfants à partir de 10ans).\nÉquipez-vous d’une gourde\, de bottes et de vêtements adaptés à la météo\, et au terrain. Pensez également à prendre des gants et des secateurs (si vous en avez) pour le chantier. N’oublier pas de prendre de quoi vous hydrater et un repas pour le midi\nPour des raisons pratiques\, pensez à préciser l’âge des participants dans le formulaire d’inscription et à laisser un numéro de téléphone mobile.\n\nPatenaires : Région Normandie\, Natura 2000\, Fonds européens\, commune de Moult-Chicheboville\, commune de Bellengreville\, commune de Vimont\, Communauté de communes Val ès Dunes\, département du Calvados
URL:https://www.cen-normandie.fr/agenda/chantier-nature-sur-le-marais-de-chicheboville-bellengreville-restaurons-la-cladiaie/
CATEGORIES:Calvados (14),Chantier participatif,Tourbières et marais
ATTACH;FMTTYPE=image/webp:https://www.cen-normandie.fr/wp-content/uploads/2026/02/Chantier_Lea_Martinez-scaled.webp
END:VEVENT
END:VCALENDAR