BEGIN:VCALENDAR
VERSION:2.0
PRODID:-//CEN Normandie - ECPv6.15.20//NONSGML v1.0//EN
CALSCALE:GREGORIAN
METHOD:PUBLISH
X-ORIGINAL-URL:https://www.cen-normandie.fr
X-WR-CALDESC:Évènements pour CEN Normandie
REFRESH-INTERVAL;VALUE=DURATION:PT1H
X-Robots-Tag:noindex
X-PUBLISHED-TTL:PT1H
BEGIN:VTIMEZONE
TZID:Europe/Paris
BEGIN:DAYLIGHT
TZOFFSETFROM:+0100
TZOFFSETTO:+0200
TZNAME:CEST
DTSTART:20260329T010000
END:DAYLIGHT
BEGIN:STANDARD
TZOFFSETFROM:+0200
TZOFFSETTO:+0100
TZNAME:CET
DTSTART:20261025T010000
END:STANDARD
BEGIN:DAYLIGHT
TZOFFSETFROM:+0100
TZOFFSETTO:+0200
TZNAME:CEST
DTSTART:20270328T010000
END:DAYLIGHT
BEGIN:STANDARD
TZOFFSETFROM:+0200
TZOFFSETTO:+0100
TZNAME:CET
DTSTART:20271031T010000
END:STANDARD
BEGIN:DAYLIGHT
TZOFFSETFROM:+0100
TZOFFSETTO:+0200
TZNAME:CEST
DTSTART:20280326T010000
END:DAYLIGHT
BEGIN:STANDARD
TZOFFSETFROM:+0200
TZOFFSETTO:+0100
TZNAME:CET
DTSTART:20281029T010000
END:STANDARD
END:VTIMEZONE
BEGIN:VEVENT
DTSTART;TZID=Europe/Paris:20270320T080000
DTEND;TZID=Europe/Paris:20270320T170000
DTSTAMP:20260421T015936
CREATED:20260410T125737Z
LAST-MODIFIED:20260410T125737Z
UID:11435-1805529600-1805562000@www.cen-normandie.fr
SUMMARY:Balade gourmande en forêt : cueillons l’ail des ours
DESCRIPTION:Partez en famille à la découverte de l’ail des ours\, cette plante sauvage aux mille vertus et aux saveurs printanières ! Au fil du sentier\, petits et grands apprendront à reconnaître son parfum si particulier\, à la cueillir dans le respect de la nature et à découvrir ses usages en cuisine. Une balade sensorielle et gourmande pour éveiller la curiosité de tous ! \nRéservation obligatoire : Lien en cours d’édition. Réservation possible en appelant le 0620397232 \nLieu de rendez-vous : La côte des Deux Amants – Romilly sur Andelle (27) \nInformations pratiques : \n\nÉvènement gratuit ouvert à tous.\nÉquipez-vous de vêtements adaptés au terrain et à la météo\nPour des raisons pratiques\, pensez à préciser l’âge des participants dans le formulaire d’inscription et à laisser un numéro de téléphone mobile.\n\nPatenaires : Département de l’Eure
URL:https://www.cen-normandie.fr/agenda/balade-gourmande-en-foret-cueillons-lail-des-ours/
LOCATION:Cote des deux Amants\, Les andelys\, Eure\, 27700\, France
CATEGORIES:Animation nature,Coteaux calcaires,Eure (27)
ATTACH;FMTTYPE=image/jpeg:https://www.cen-normandie.fr/wp-content/uploads/2026/04/200719_Milieu-7-scaled.jpg
ORGANIZER;CN="CEN Normandie":MAILTO:contact@cen-normandie.fr
END:VEVENT
BEGIN:VEVENT
DTSTART;TZID=Europe/Paris:20270320T140000
DTEND;TZID=Europe/Paris:20270320T163000
DTSTAMP:20260421T015936
CREATED:20260410T102831Z
LAST-MODIFIED:20260410T102831Z
UID:11431-1805551200-1805560200@www.cen-normandie.fr
SUMMARY:Sous nos pieds… les petites bêtes !
DESCRIPTION:Venez découvrir le monde fascinant des animaux minuscules qui peuplent le sol de la forêt ! Guidés par l’animatrice du Conservatoire d’espaces naturels de Normandie\, vous partirez à leur recherche équipés de boites loupes. Vous apprendrez leurs noms et vous comprendrez leurs rôles essentiels dans nos bois. Etonnement assuré pour un plongeon dans ce petit monde invisible ! \nRéservation obligatoire : Lien en cours d’édition. Réservation possible en appelant le 0620397232 \nLieu de rendez-vous : Les coteaux de Saint Michel – Evreux (27) \nInformations pratiques : \n\nÉvènement gratuit ouvert à tous.\nÉquipez-vous de vêtements adaptés au terrain et à la météo\nPour des raisons pratiques\, pensez à préciser l’âge des participants dans le formulaire d’inscription et à laisser un numéro de téléphone mobile.\n\nPatenaires : Département de l’Eure
URL:https://www.cen-normandie.fr/agenda/sous-nos-pieds-les-petites-betes/
LOCATION:coteaux de saint michel\, Evreux\, Eure\, 27000\, France
CATEGORIES:Animation nature,Coteaux calcaires,Eure (27)
ATTACH;FMTTYPE=image/jpeg:https://www.cen-normandie.fr/wp-content/uploads/2026/04/humus-visu-photo.jpg
ORGANIZER;CN="CEN Normandie":MAILTO:contact@cen-normandie.fr
END:VEVENT
BEGIN:VEVENT
DTSTART;TZID=Europe/Paris:20270327T080000
DTEND;TZID=Europe/Paris:20270327T170000
DTSTAMP:20260421T015936
CREATED:20260410T132415Z
LAST-MODIFIED:20260410T132415Z
UID:11441-1806134400-1806166800@www.cen-normandie.fr
SUMMARY:Mission biodiversité : à vos bombes à graines !
DESCRIPTION:Crée ta propre bombe à graines ! Sous les indications de notre animatrice\, tu vas fabriquer des petites boules magiques qui donneront naissance à de magnifiques fleurs au printemps. Un super moyen d’aider les pollinisateurs ! \nRéservation obligatoire : Lien en cours d’édition. Réservation possible en appelant le 0620397232 \nLieu de rendez-vous : Les mares et coteaux de Barneville-sur-Seine \nInformations pratiques : \n\nÉvènement gratuit ouvert à tous.\nÉquipez-vous de vêtements adaptés au terrain et à la météo\nPour des raisons pratiques\, pensez à préciser l’âge des participants dans le formulaire d’inscription et à laisser un numéro de téléphone mobile.\n\nPatenaires : Département de l’Eure\n 
URL:https://www.cen-normandie.fr/agenda/mission-biodiversite-a-vos-bombes-a-graines/
LOCATION:Les mares et coteaux de Barneville-sur-Seine\, Barneville-sur-Seine\, 27310\, France
ATTACH;FMTTYPE=image/jpeg:https://www.cen-normandie.fr/wp-content/uploads/2026/04/Mare-aux-biches_Evreux-la-Madeleine_XH2.jpg
ORGANIZER;CN="CEN Normandie":MAILTO:contact@cen-normandie.fr
END:VEVENT
END:VCALENDAR